Package: miRNApath Version: 1.71.0 Command: /home/biocbuild/bbs-3.23-bioc/R/bin/R CMD build --keep-empty-dirs --no-resave-data miRNApath StartedAt: 2025-11-07 18:38:19 -0500 (Fri, 07 Nov 2025) EndedAt: 2025-11-07 18:38:31 -0500 (Fri, 07 Nov 2025) EllapsedTime: 12.0 seconds RetCode: 0 Status: OK PackageFile: miRNApath_1.71.0.tar.gz PackageFileSize: 662 KiB