Package: miRNApath Version: 1.69.0 Command: /Library/Frameworks/R.framework/Resources/bin/R CMD INSTALL miRNApath StartedAt: 2025-10-10 15:04:59 -0400 (Fri, 10 Oct 2025) EndedAt: 2025-10-10 15:05:08 -0400 (Fri, 10 Oct 2025) EllapsedTime: 9.0 seconds RetCode: 0 Status: OK