Package: miRNApath Version: 1.69.0 Command: /Library/Frameworks/R.framework/Resources/bin/R CMD build --keep-empty-dirs --no-resave-data miRNApath StartedAt: 2025-10-10 17:02:33 -0400 (Fri, 10 Oct 2025) EndedAt: 2025-10-10 17:02:42 -0400 (Fri, 10 Oct 2025) EllapsedTime: 8.1 seconds RetCode: 0 Status: OK PackageFile: miRNApath_1.69.0.tar.gz PackageFileSize: 662.2 KiB