Package: miRNApath Version: 1.69.0 Command: rm -rf miRNApath.buildbin-libdir && mkdir miRNApath.buildbin-libdir && /Users/biocbuild/BBS/utils/build-universal.sh miRNApath_1.69.0.tar.gz /Library/Frameworks/R.framework/Resources/bin/R miRNApath.buildbin-libdir StartedAt: 2025-10-10 22:48:17 -0400 (Fri, 10 Oct 2025) EndedAt: 2025-10-10 22:48:19 -0400 (Fri, 10 Oct 2025) EllapsedTime: 2.0 seconds RetCode: 0 Status: OK PackageFile: miRNApath_1.69.0.tgz PackageFileSize: 833.8 KiB