Package: miRNAmeConverter Version: 1.39.0 Command: /home/biocbuild/bbs-3.23-bioc/R/bin/R CMD INSTALL miRNAmeConverter StartedAt: 2025-11-21 15:28:36 -0500 (Fri, 21 Nov 2025) EndedAt: 2025-11-21 15:28:51 -0500 (Fri, 21 Nov 2025) EllapsedTime: 14.4 seconds RetCode: 0 Status: OK