Package: miRNAmeConverter Version: 1.39.0 Command: /home/biocbuild/bbs-3.23-bioc/R/bin/R CMD build --keep-empty-dirs --no-resave-data miRNAmeConverter StartedAt: 2025-11-21 18:44:17 -0500 (Fri, 21 Nov 2025) EndedAt: 2025-11-21 18:44:18 -0500 (Fri, 21 Nov 2025) EllapsedTime: 1.0 seconds RetCode: 0 Status: OK PackageFile: miRNAmeConverter_1.39.0.tar.gz PackageFileSize: 313.7 KiB