Package: miRLAB Version: 1.41.0 Command: /home/biocbuild/bbs-3.23-bioc/R/bin/R CMD INSTALL miRLAB StartedAt: 2025-11-21 15:39:18 -0500 (Fri, 21 Nov 2025) EndedAt: 2025-11-21 15:39:53 -0500 (Fri, 21 Nov 2025) EllapsedTime: 35.6 seconds RetCode: 0 Status: OK