Package: miRLAB Version: 1.41.0 Command: /home/biocbuild/bbs-3.23-bioc/R/bin/R CMD build --keep-empty-dirs --no-resave-data miRLAB StartedAt: 2025-11-21 18:44:12 -0500 (Fri, 21 Nov 2025) EndedAt: 2025-11-21 18:44:50 -0500 (Fri, 21 Nov 2025) EllapsedTime: 38.1 seconds RetCode: 0 Status: OK PackageFile: miRLAB_1.41.0.tar.gz PackageFileSize: 192.2 KiB