Package: miRLAB Version: 1.41.0 Command: /Library/Frameworks/R.framework/Resources/bin/R CMD build --keep-empty-dirs --no-resave-data miRLAB StartedAt: 2025-11-21 16:58:29 -0500 (Fri, 21 Nov 2025) EndedAt: 2025-11-21 16:58:46 -0500 (Fri, 21 Nov 2025) EllapsedTime: 17.2 seconds RetCode: 0 Status: OK PackageFile: miRLAB_1.41.0.tar.gz PackageFileSize: 192.3 KiB