Package: miRLAB Version: 1.41.0 Command: rm -rf miRLAB.buildbin-libdir && mkdir miRLAB.buildbin-libdir && /Users/biocbuild/BBS/utils/build-universal.sh miRLAB_1.41.0.tar.gz /Library/Frameworks/R.framework/Resources/bin/R miRLAB.buildbin-libdir StartedAt: 2025-11-21 23:40:27 -0500 (Fri, 21 Nov 2025) EndedAt: 2025-11-21 23:40:45 -0500 (Fri, 21 Nov 2025) EllapsedTime: 18.4 seconds RetCode: 0 Status: OK PackageFile: miRLAB_1.41.0.tgz PackageFileSize: 306.3 KiB