Package: miRBaseConverter Version: 1.33.0 Command: /Library/Frameworks/R.framework/Resources/bin/R CMD INSTALL miRBaseConverter StartedAt: 2025-10-05 15:01:58 -0400 (Sun, 05 Oct 2025) EndedAt: 2025-10-05 15:02:09 -0400 (Sun, 05 Oct 2025) EllapsedTime: 10.2 seconds RetCode: 0 Status: OK