Package: miQC Version: 1.19.0 Command: /home/biocbuild/bbs-3.23-bioc/R/bin/R CMD INSTALL miQC StartedAt: 2025-10-30 15:24:08 -0400 (Thu, 30 Oct 2025) EndedAt: 2025-10-30 15:24:33 -0400 (Thu, 30 Oct 2025) EllapsedTime: 25.1 seconds RetCode: 0 Status: OK