Package: miQC Version: 1.19.0 Command: /home/biocbuild/bbs-3.23-bioc/R/bin/R CMD build --keep-empty-dirs --no-resave-data miQC StartedAt: 2025-10-30 17:57:44 -0400 (Thu, 30 Oct 2025) EndedAt: 2025-10-30 17:58:57 -0400 (Thu, 30 Oct 2025) EllapsedTime: 73.1 seconds RetCode: 0 Status: OK PackageFile: miQC_1.19.0.tar.gz PackageFileSize: 2.826 MiB