Package: miQC Version: 1.19.0 Command: /Library/Frameworks/R.framework/Resources/bin/R CMD build --keep-empty-dirs --no-resave-data miQC StartedAt: 2025-11-21 17:44:01 -0500 (Fri, 21 Nov 2025) EndedAt: 2025-11-21 17:45:33 -0500 (Fri, 21 Nov 2025) EllapsedTime: 91.6 seconds RetCode: 0 Status: OK PackageFile: miQC_1.19.0.tar.gz PackageFileSize: 3.079 MiB