Package: miQC Version: 1.19.0 Command: rm -rf miQC.buildbin-libdir && mkdir miQC.buildbin-libdir && /Users/biocbuild/BBS/utils/build-universal.sh miQC_1.19.0.tar.gz /Library/Frameworks/R.framework/Resources/bin/R miQC.buildbin-libdir StartedAt: 2025-11-22 01:43:54 -0500 (Sat, 22 Nov 2025) EndedAt: 2025-11-22 01:44:34 -0500 (Sat, 22 Nov 2025) EllapsedTime: 39.3 seconds RetCode: 0 Status: OK PackageFile: miQC_1.19.0.tgz PackageFileSize: 3.103 MiB