Package: miQC Version: 1.17.0 Command: /Library/Frameworks/R.framework/Resources/bin/R CMD build --keep-empty-dirs --no-resave-data miQC StartedAt: 2025-10-24 17:03:04 -0400 (Fri, 24 Oct 2025) EndedAt: 2025-10-24 17:03:36 -0400 (Fri, 24 Oct 2025) EllapsedTime: 31.4 seconds RetCode: 0 Status: OK PackageFile: miQC_1.17.0.tar.gz PackageFileSize: 3.08 MiB