Package: mgsa Version: 1.57.0 Command: /home/biocbuild/bbs-3.22-bioc/R/bin/R CMD build --keep-empty-dirs --no-resave-data --md5 mgsa StartedAt: 2025-10-17 18:36:51 -0400 (Fri, 17 Oct 2025) EndedAt: 2025-10-17 18:37:03 -0400 (Fri, 17 Oct 2025) EllapsedTime: 12.0 seconds RetCode: 0 Status: OK PackageFile: mgsa_1.57.0.tar.gz PackageFileSize: 397.5 KiB