Package: mfa Version: 1.33.0 Command: /home/biocbuild/bbs-3.23-bioc/R/bin/R CMD INSTALL mfa StartedAt: 2025-11-21 15:13:55 -0500 (Fri, 21 Nov 2025) EndedAt: 2025-11-21 15:14:14 -0500 (Fri, 21 Nov 2025) EllapsedTime: 18.9 seconds RetCode: 0 Status: OK