Package: mfa Version: 1.33.0 Command: /home/biocbuild/bbs-3.23-bioc/R/bin/R CMD build --keep-empty-dirs --no-resave-data mfa StartedAt: 2025-11-21 18:39:53 -0500 (Fri, 21 Nov 2025) EndedAt: 2025-11-21 18:40:20 -0500 (Fri, 21 Nov 2025) EllapsedTime: 27.0 seconds RetCode: 1 Status: ERROR PackageFile: None PackageFileSize: NA