Package: mfa Version: 1.33.0 Command: /Library/Frameworks/R.framework/Resources/bin/R CMD INSTALL mfa StartedAt: 2025-11-20 15:07:31 -0500 (Thu, 20 Nov 2025) EndedAt: 2025-11-20 15:07:37 -0500 (Thu, 20 Nov 2025) EllapsedTime: 5.9 seconds RetCode: 0 Status: OK