Package: mfa Version: 1.33.0 Command: /Library/Frameworks/R.framework/Resources/bin/R CMD build --keep-empty-dirs --no-resave-data mfa StartedAt: 2025-11-20 16:56:31 -0500 (Thu, 20 Nov 2025) EndedAt: 2025-11-20 16:56:43 -0500 (Thu, 20 Nov 2025) EllapsedTime: 12.2 seconds RetCode: 1 Status: ERROR PackageFile: None PackageFileSize: NA