Package: methylumi Version: 2.55.0 Command: /home/biocbuild/R/R/bin/R CMD INSTALL methylumi StartedAt: 2025-10-16 22:25:36 -0000 (Thu, 16 Oct 2025) EndedAt: 2025-10-16 22:26:56 -0000 (Thu, 16 Oct 2025) EllapsedTime: 80.5 seconds RetCode: 0 Status: OK