Package: methylumi Version: 2.55.0 Command: /home/biocbuild/R/R/bin/R CMD build --keep-empty-dirs --no-resave-data methylumi StartedAt: 2025-10-17 02:38:03 -0000 (Fri, 17 Oct 2025) EndedAt: 2025-10-17 02:42:31 -0000 (Fri, 17 Oct 2025) EllapsedTime: 268.1 seconds RetCode: 0 Status: OK PackageFile: methylumi_2.55.0.tar.gz PackageFileSize: 7.34 MiB