Package: methylumi Version: 2.55.0 Command: /home/biocbuild/bbs-3.22-bioc/R/bin/R CMD check --install=check:methylumi.install-out.txt --library=/home/biocbuild/bbs-3.22-bioc/R/site-library --timings methylumi_2.55.0.tar.gz StartedAt: 2025-10-15 01:40:49 -0400 (Wed, 15 Oct 2025) EndedAt: 2025-10-15 01:49:41 -0400 (Wed, 15 Oct 2025) EllapsedTime: 532.5 seconds RetCode: 0 Status: OK CheckDir: methylumi.Rcheck Warnings: 0