Package: methylumi Version: 2.57.0 Command: /home/biocbuild/bbs-3.23-bioc/R/bin/R CMD INSTALL methylumi StartedAt: 2025-11-04 15:58:15 -0500 (Tue, 04 Nov 2025) EndedAt: 2025-11-04 15:59:15 -0500 (Tue, 04 Nov 2025) EllapsedTime: 60.0 seconds RetCode: 0 Status: OK