Package: methylumi Version: 2.57.0 Command: /home/biocbuild/bbs-3.23-bioc/R/bin/R CMD build --keep-empty-dirs --no-resave-data methylumi StartedAt: 2025-11-04 18:32:15 -0500 (Tue, 04 Nov 2025) EndedAt: 2025-11-04 18:35:24 -0500 (Tue, 04 Nov 2025) EllapsedTime: 189.2 seconds RetCode: 0 Status: OK PackageFile: methylumi_2.57.0.tar.gz PackageFileSize: 7.346 MiB