Package: methylscaper Version: 1.19.0 Command: /home/biocbuild/bbs-3.23-bioc/R/bin/R CMD INSTALL methylscaper StartedAt: 2025-11-06 15:50:12 -0500 (Thu, 06 Nov 2025) EndedAt: 2025-11-06 15:50:40 -0500 (Thu, 06 Nov 2025) EllapsedTime: 28.1 seconds RetCode: 0 Status: OK