Package: methylscaper Version: 1.17.0 Command: /Library/Frameworks/R.framework/Resources/bin/R CMD build --keep-empty-dirs --no-resave-data methylscaper StartedAt: 2025-10-17 16:58:41 -0400 (Fri, 17 Oct 2025) EndedAt: 2025-10-17 16:59:46 -0400 (Fri, 17 Oct 2025) EllapsedTime: 64.7 seconds RetCode: 0 Status: OK PackageFile: methylscaper_1.17.0.tar.gz PackageFileSize: 4.031 MiB