Package: methylclock Version: 1.15.0 Command: /home/biocbuild/R/R/bin/R CMD INSTALL methylclock StartedAt: 2025-10-23 21:14:45 -0000 (Thu, 23 Oct 2025) EndedAt: 2025-10-23 21:16:24 -0000 (Thu, 23 Oct 2025) EllapsedTime: 99.5 seconds RetCode: 0 Status: OK