Package: methylclock Version: 1.15.0 Command: /home/biocbuild/R/R/bin/R CMD build --keep-empty-dirs --no-resave-data methylclock StartedAt: 2025-10-21 01:07:33 -0000 (Tue, 21 Oct 2025) EndedAt: 2025-10-21 01:25:16 -0000 (Tue, 21 Oct 2025) EllapsedTime: 1062.4 seconds RetCode: 0 Status: OK PackageFile: methylclock_1.15.0.tar.gz PackageFileSize: 774.4 KiB