Package: methylclock Version: 1.15.0 Command: /home/biocbuild/bbs-3.22-bioc/R/bin/R CMD check --install=check:methylclock.install-out.txt --library=/home/biocbuild/bbs-3.22-bioc/R/site-library --timings methylclock_1.15.0.tar.gz StartedAt: 2025-10-21 01:40:43 -0400 (Tue, 21 Oct 2025) EndedAt: 2025-10-21 01:58:08 -0400 (Tue, 21 Oct 2025) EllapsedTime: 1044.8 seconds RetCode: 0 Status: OK CheckDir: methylclock.Rcheck Warnings: 0