Package: methylclock Version: 1.17.0 Command: /home/biocbuild/bbs-3.23-bioc/R/bin/R CMD INSTALL methylclock StartedAt: 2025-11-04 15:47:30 -0500 (Tue, 04 Nov 2025) EndedAt: 2025-11-04 15:48:42 -0500 (Tue, 04 Nov 2025) EllapsedTime: 71.5 seconds RetCode: 0 Status: OK