Package: methylclock Version: 1.17.0 Command: /home/biocbuild/bbs-3.23-bioc/R/bin/R CMD build --keep-empty-dirs --no-resave-data methylclock StartedAt: 2025-11-05 18:36:38 -0500 (Wed, 05 Nov 2025) EndedAt: 2025-11-05 18:45:28 -0500 (Wed, 05 Nov 2025) EllapsedTime: 529.4 seconds RetCode: 0 Status: OK PackageFile: methylclock_1.17.0.tar.gz PackageFileSize: 1.118 MiB