Package: methylclock Version: 1.15.0 Command: /Library/Frameworks/R.framework/Resources/bin/R CMD INSTALL methylclock StartedAt: 2025-10-03 15:45:06 -0400 (Fri, 03 Oct 2025) EndedAt: 2025-10-03 15:46:43 -0400 (Fri, 03 Oct 2025) EllapsedTime: 97.0 seconds RetCode: 0 Status: OK