Package: methylclock Version: 1.15.0 Command: /Library/Frameworks/R.framework/Resources/bin/R CMD build --keep-empty-dirs --no-resave-data methylclock StartedAt: 2025-10-03 17:46:15 -0400 (Fri, 03 Oct 2025) EndedAt: 2025-10-03 18:00:42 -0400 (Fri, 03 Oct 2025) EllapsedTime: 866.5 seconds RetCode: 0 Status: OK PackageFile: methylclock_1.15.0.tar.gz PackageFileSize: 963 KiB