Package: methylclock Version: 1.15.0 Command: rm -rf methylclock.buildbin-libdir && mkdir methylclock.buildbin-libdir && /Users/biocbuild/BBS/utils/build-universal.sh methylclock_1.15.0.tar.gz /Library/Frameworks/R.framework/Resources/bin/R methylclock.buildbin-libdir StartedAt: 2025-10-04 02:14:29 -0400 (Sat, 04 Oct 2025) EndedAt: 2025-10-04 02:16:11 -0400 (Sat, 04 Oct 2025) EllapsedTime: 101.8 seconds RetCode: 0 Status: OK PackageFile: methylclock_1.15.0.tgz PackageFileSize: 1.025 MiB