Package: methylSig Version: 1.23.0 Command: /home/biocbuild/bbs-3.23-bioc/R/bin/R CMD INSTALL methylSig StartedAt: 2025-11-20 15:37:33 -0500 (Thu, 20 Nov 2025) EndedAt: 2025-11-20 15:38:25 -0500 (Thu, 20 Nov 2025) EllapsedTime: 51.7 seconds RetCode: 0 Status: OK