Package: methylSig Version: 1.23.0 Command: /home/biocbuild/bbs-3.23-bioc/R/bin/R CMD build --keep-empty-dirs --no-resave-data methylSig StartedAt: 2025-11-20 18:36:51 -0500 (Thu, 20 Nov 2025) EndedAt: 2025-11-20 18:38:12 -0500 (Thu, 20 Nov 2025) EllapsedTime: 81.1 seconds RetCode: 0 Status: OK PackageFile: methylSig_1.23.0.tar.gz PackageFileSize: 488 KiB