Package: methylSig Version: 1.23.0 Command: /Library/Frameworks/R.framework/Resources/bin/R CMD INSTALL methylSig StartedAt: 2025-11-20 15:45:13 -0500 (Thu, 20 Nov 2025) EndedAt: 2025-11-20 15:46:21 -0500 (Thu, 20 Nov 2025) EllapsedTime: 67.9 seconds RetCode: 0 Status: OK