Package: methylSig Version: 1.23.0 Command: /Library/Frameworks/R.framework/Resources/bin/R CMD build --keep-empty-dirs --no-resave-data methylSig StartedAt: 2025-11-20 17:41:22 -0500 (Thu, 20 Nov 2025) EndedAt: 2025-11-20 17:43:00 -0500 (Thu, 20 Nov 2025) EllapsedTime: 97.2 seconds RetCode: 0 Status: OK PackageFile: methylSig_1.23.0.tar.gz PackageFileSize: 487.7 KiB