Package: methylSig Version: 1.23.0 Command: rm -rf methylSig.buildbin-libdir && mkdir methylSig.buildbin-libdir && /Users/biocbuild/BBS/utils/build-universal.sh methylSig_1.23.0.tar.gz /Library/Frameworks/R.framework/Resources/bin/R methylSig.buildbin-libdir StartedAt: 2025-11-20 01:42:05 -0500 (Thu, 20 Nov 2025) EndedAt: 2025-11-20 01:43:18 -0500 (Thu, 20 Nov 2025) EllapsedTime: 72.7 seconds RetCode: 0 Status: OK PackageFile: methylSig_1.23.0.tgz PackageFileSize: 581.5 KiB