Package: methylSig Version: 1.21.2 Command: rm -rf methylSig.buildbin-libdir && mkdir methylSig.buildbin-libdir && /Users/biocbuild/BBS/utils/build-universal.sh methylSig_1.21.2.tar.gz /Library/Frameworks/R.framework/Resources/bin/R methylSig.buildbin-libdir StartedAt: 2025-10-27 23:09:03 -0400 (Mon, 27 Oct 2025) EndedAt: 2025-10-27 23:09:25 -0400 (Mon, 27 Oct 2025) EllapsedTime: 22.4 seconds RetCode: 0 Status: OK PackageFile: methylSig_1.21.2.tgz PackageFileSize: 582 KiB