Package: methylPipe Version: 1.45.0 Command: /home/biocbuild/bbs-3.23-bioc/R/bin/R CMD build --keep-empty-dirs --no-resave-data methylPipe StartedAt: 2025-11-04 18:31:14 -0500 (Tue, 04 Nov 2025) EndedAt: 2025-11-04 18:33:39 -0500 (Tue, 04 Nov 2025) EllapsedTime: 145.1 seconds RetCode: 0 Status: OK PackageFile: methylPipe_1.45.0.tar.gz PackageFileSize: 792.8 KiB