Package: methylPipe Version: 1.43.1 Command: /Library/Frameworks/R.framework/Resources/bin/R CMD INSTALL methylPipe StartedAt: 2025-10-10 15:47:54 -0400 (Fri, 10 Oct 2025) EndedAt: 2025-10-10 15:49:11 -0400 (Fri, 10 Oct 2025) EllapsedTime: 76.7 seconds RetCode: 0 Status: OK