Package: methylPipe Version: 1.43.1 Command: /Library/Frameworks/R.framework/Resources/bin/R CMD build --keep-empty-dirs --no-resave-data methylPipe StartedAt: 2025-10-10 17:57:32 -0400 (Fri, 10 Oct 2025) EndedAt: 2025-10-10 18:01:31 -0400 (Fri, 10 Oct 2025) EllapsedTime: 239.5 seconds RetCode: 0 Status: OK PackageFile: methylPipe_1.43.1.tar.gz PackageFileSize: 791.6 KiB