Package: methylPipe Version: 1.43.1 Command: rm -rf methylPipe.buildbin-libdir && mkdir methylPipe.buildbin-libdir && /Users/biocbuild/BBS/utils/build-universal.sh methylPipe_1.43.1.tar.gz /Library/Frameworks/R.framework/Resources/bin/R methylPipe.buildbin-libdir StartedAt: 2025-10-11 02:38:40 -0400 (Sat, 11 Oct 2025) EndedAt: 2025-10-11 02:40:00 -0400 (Sat, 11 Oct 2025) EllapsedTime: 80.6 seconds RetCode: 0 Status: OK PackageFile: methylPipe_1.43.1.tgz PackageFileSize: 1.485 MiB