Package: methylMnM Version: 1.47.0 Command: /home/biocbuild/bbs-3.22-bioc/R/bin/R CMD INSTALL methylMnM StartedAt: 2025-10-05 15:02:58 -0400 (Sun, 05 Oct 2025) EndedAt: 2025-10-05 15:03:23 -0400 (Sun, 05 Oct 2025) EllapsedTime: 25.8 seconds RetCode: 0 Status: OK