Package: methylMnM Version: 1.49.0 Command: /home/biocbuild/bbs-3.23-bioc/R/bin/R CMD INSTALL methylMnM StartedAt: 2025-10-31 15:11:22 -0400 (Fri, 31 Oct 2025) EndedAt: 2025-10-31 15:11:40 -0400 (Fri, 31 Oct 2025) EllapsedTime: 18.6 seconds RetCode: 0 Status: OK