Package: methylMnM Version: 1.49.0 Command: /Library/Frameworks/R.framework/Resources/bin/R CMD INSTALL methylMnM StartedAt: 2025-11-20 15:11:40 -0500 (Thu, 20 Nov 2025) EndedAt: 2025-11-20 15:12:11 -0500 (Thu, 20 Nov 2025) EllapsedTime: 30.8 seconds RetCode: 0 Status: OK