Package: methylMnM Version: 1.49.0 Command: /Library/Frameworks/R.framework/Resources/bin/R CMD build --keep-empty-dirs --no-resave-data methylMnM StartedAt: 2025-11-20 17:40:36 -0500 (Thu, 20 Nov 2025) EndedAt: 2025-11-20 17:41:42 -0500 (Thu, 20 Nov 2025) EllapsedTime: 66.2 seconds RetCode: 0 Status: OK PackageFile: methylMnM_1.49.0.tar.gz PackageFileSize: 8.509 MiB